BEGIN:VCALENDAR
VERSION:2.0
PRODID:-//https://www.sandiegofamily.com///NONSGML kigkonsult.se iCalcreator 2.10.15//
METHOD:PUBLISH
BEGIN:VEVENT
UID:20260425T175936UTC-86210u5mK0@https://www.sandiegofamily.com/
DTSTAMP:20260425T175936Z
DESCRIPTION: https://www.sandiegofamily.com/things-to-do/events-calendar/ev
 ent/49820-star-wars-a-new-hope-in-concert
DTSTART;VALUE=DATE:20260501
LOCATION:The Rady Shell at Jacobs Park (Embarcadero Marina Park South\, 200
  Marina Park Way\, San Diego\, CA 92101\, USA)
SUMMARY:“Star Wars: A New Hope in Concert.” 
URL:https://www.sandiegofamily.com/things-to-do/events-calendar/event/49820
 -star-wars-a-new-hope-in-concert
END:VEVENT
END:VCALENDAR
