BEGIN:VCALENDAR
VERSION:2.0
PRODID:-//https://www.sandiegofamily.com///NONSGML kigkonsult.se iCalcreator 2.10.15//
METHOD:PUBLISH
BEGIN:VEVENT
UID:20260425T105332UTC-8995u1llpR@https://www.sandiegofamily.com/
DTSTAMP:20260425T105332Z
DESCRIPTION: https://www.sandiegofamily.com/things-to-do/events-calendar/ev
 ent/49810-the-big-exchange
DTSTART;VALUE=DATE:20260509
LOCATION:San Diego\, CA ()
SUMMARY:The Big Exchange
URL:https://www.sandiegofamily.com/things-to-do/events-calendar/event/49810
 -the-big-exchange
END:VEVENT
END:VCALENDAR
