BEGIN:VCALENDAR
VERSION:2.0
PRODID:-//https://www.sandiegofamily.com///NONSGML kigkonsult.se iCalcreator 2.10.15//
METHOD:PUBLISH
BEGIN:VEVENT
UID:20260424T234836UTC-31335atllB@https://www.sandiegofamily.com/
DTSTAMP:20260424T234836Z
DESCRIPTION: https://www.sandiegofamily.com/things-to-do/events-calendar/ev
 ent/49790-foodies-4-foster-kids
DTSTART;VALUE=DATE:20260520
LOCATION:San Diego\, CA ()
SUMMARY:Foodies 4 Foster Kids
URL:https://www.sandiegofamily.com/things-to-do/events-calendar/event/49790
 -foodies-4-foster-kids
END:VEVENT
END:VCALENDAR
