BEGIN:VCALENDAR
VERSION:2.0
PRODID:-//https://www.sandiegofamily.com///NONSGML kigkonsult.se iCalcreator 2.10.15//
METHOD:PUBLISH
BEGIN:VEVENT
UID:20260424T144103UTC-3960SerZi2@https://www.sandiegofamily.com/
DTSTAMP:20260424T144103Z
DESCRIPTION: https://www.sandiegofamily.com/things-to-do/events-calendar/ev
 ent/49769-marine-science-day
DTSTART;VALUE=DATE:20260426
LOCATION:San Diego\, CA ()
SUMMARY:Marine Science Day
URL:https://www.sandiegofamily.com/things-to-do/events-calendar/event/49769
 -marine-science-day
END:VEVENT
END:VCALENDAR
