BEGIN:VCALENDAR
VERSION:2.0
PRODID:-//https://www.sandiegofamily.com///NONSGML kigkonsult.se iCalcreator 2.10.15//
METHOD:PUBLISH
BEGIN:VEVENT
UID:20260421T183109UTC-4421HN8JmR@https://www.sandiegofamily.com/
DTSTAMP:20260421T183109Z
DESCRIPTION: https://www.sandiegofamily.com/things-to-do/events-calendar/ev
 ent/49762-the-cher-show
DTSTART;VALUE=DATE:20260508
LOCATION:Moonlight Amphitheater (1250 Vale Terrace Dr\, Vista\, CA 92084\, 
 USA)
SUMMARY:“The Cher Show.” 
URL:https://www.sandiegofamily.com/things-to-do/events-calendar/event/49762
 -the-cher-show
END:VEVENT
END:VCALENDAR
