BEGIN:VCALENDAR
VERSION:2.0
PRODID:-//https://www.sandiegofamily.com///NONSGML kigkonsult.se iCalcreator 2.10.15//
METHOD:PUBLISH
BEGIN:VEVENT
UID:20260424T134903UTC-0272bbiwsN@https://www.sandiegofamily.com/
DTSTAMP:20260424T134903Z
DESCRIPTION: https://www.sandiegofamily.com/things-to-do/events-calendar/ev
 ent/49742-fern-street-circus
DTSTART;VALUE=DATE:20260426
LOCATION:San Diego\, CA ()
SUMMARY:Fern Street Circus
URL:https://www.sandiegofamily.com/things-to-do/events-calendar/event/49742
 -fern-street-circus
END:VEVENT
END:VCALENDAR
