BEGIN:VCALENDAR
VERSION:2.0
PRODID:-//https://www.sandiegofamily.com///NONSGML kigkonsult.se iCalcreator 2.10.15//
METHOD:PUBLISH
BEGIN:VEVENT
UID:20260421T000701UTC-5636pEpr0t@https://www.sandiegofamily.com/
DTSTAMP:20260421T000701Z
DESCRIPTION: https://www.sandiegofamily.com/things-to-do/events-calendar/ev
 ent/49739-dancing-on-tiptoes-a-musical-exploration-of-melody-movement-and-
 mood
DTSTART;VALUE=DATE:20260425
LOCATION:La Jolla\, CA (Girard Ave\, La Jolla\, CA 92037\, USA)
SUMMARY:Dancing on Tiptoes: A Musical Exploration of Melody\, Movement and 
 Mood
URL:https://www.sandiegofamily.com/things-to-do/events-calendar/event/49739
 -dancing-on-tiptoes-a-musical-exploration-of-melody-movement-and-mood
END:VEVENT
END:VCALENDAR
