BEGIN:VCALENDAR
VERSION:2.0
PRODID:-//https://www.sandiegofamily.com///NONSGML kigkonsult.se iCalcreator 2.10.15//
METHOD:PUBLISH
BEGIN:VEVENT
UID:20260424T085416UTC-0478ZCUVZ1@https://www.sandiegofamily.com/
DTSTAMP:20260424T085416Z
DESCRIPTION: https://www.sandiegofamily.com/things-to-do/events-calendar/ev
 ent/49738-panda-fest
DTSTART;VALUE=DATE:20260426
LOCATION:Waterfront Park (1600 Pacific Hwy\, San Diego\, CA 92101\, USA)
SUMMARY:Panda Fest
URL:https://www.sandiegofamily.com/things-to-do/events-calendar/event/49738
 -panda-fest
END:VEVENT
END:VCALENDAR
