BEGIN:VCALENDAR
VERSION:2.0
PRODID:-//https://www.sandiegofamily.com///NONSGML kigkonsult.se iCalcreator 2.10.15//
METHOD:PUBLISH
BEGIN:VEVENT
UID:20260421T001513UTC-3101b1glRP@https://www.sandiegofamily.com/
DTSTAMP:20260421T001513Z
DESCRIPTION: https://www.sandiegofamily.com/things-to-do/events-calendar/ev
 ent/49731-musica-en-la-plaza
DTSTART;VALUE=DATE:20260424
LOCATION:California Center for the Arts\, Escondido (340 N Escondido Blvd\,
  Escondido\, CA 92025\, USA)
SUMMARY:Música en la Plaza
URL:https://www.sandiegofamily.com/things-to-do/events-calendar/event/49731
 -musica-en-la-plaza
END:VEVENT
END:VCALENDAR
