BEGIN:VCALENDAR
VERSION:2.0
PRODID:-//https://www.sandiegofamily.com///NONSGML kigkonsult.se iCalcreator 2.10.15//
METHOD:PUBLISH
BEGIN:VEVENT
UID:20260421T111000UTC-0814asAuU7@https://www.sandiegofamily.com/
DTSTAMP:20260421T111000Z
DESCRIPTION: https://www.sandiegofamily.com/things-to-do/events-calendar/ev
 ent/49730-annie-jr
DTSTART;VALUE=DATE:20260426
LOCATION:Julian CA (2811 Washington St\, Julian\, CA 92036\, USA)
SUMMARY:“Annie Jr.” 
URL:https://www.sandiegofamily.com/things-to-do/events-calendar/event/49730
 -annie-jr
END:VEVENT
END:VCALENDAR
