BEGIN:VCALENDAR
VERSION:2.0
PRODID:-//https://www.sandiegofamily.com///NONSGML kigkonsult.se iCalcreator 2.10.15//
METHOD:PUBLISH
BEGIN:VEVENT
UID:20260424T115117UTC-7662VVZEur@https://www.sandiegofamily.com/
DTSTAMP:20260424T115117Z
DESCRIPTION: https://www.sandiegofamily.com/things-to-do/events-calendar/ev
 ent/49728-annie-jr
DTSTART;VALUE=DATE:20260424
LOCATION:Julian CA (2811 Washington St\, Julian\, CA 92036\, USA)
SUMMARY:“Annie Jr.” 
URL:https://www.sandiegofamily.com/things-to-do/events-calendar/event/49728
 -annie-jr
END:VEVENT
END:VCALENDAR
