BEGIN:VCALENDAR
VERSION:2.0
PRODID:-//https://www.sandiegofamily.com///NONSGML kigkonsult.se iCalcreator 2.10.15//
METHOD:PUBLISH
BEGIN:VEVENT
UID:20260421T144414UTC-7947tjeZGW@https://www.sandiegofamily.com/
DTSTAMP:20260421T144414Z
DESCRIPTION: https://www.sandiegofamily.com/things-to-do/events-calendar/ev
 ent/49722-shrek-the-musical
DTSTART;VALUE=DATE:20260501
LOCATION:Casa del Prado Theatre\, Balboa Park (1600 Village Pl\, San Diego\
 , CA 92101\, USA)
SUMMARY:“Shrek the Musical.” 
URL:https://www.sandiegofamily.com/things-to-do/events-calendar/event/49722
 -shrek-the-musical
END:VEVENT
END:VCALENDAR
