BEGIN:VCALENDAR
VERSION:2.0
PRODID:-//https://www.sandiegofamily.com///NONSGML kigkonsult.se iCalcreator 2.10.15//
METHOD:PUBLISH
BEGIN:VEVENT
UID:20260424T121929UTC-6068Jum40u@https://www.sandiegofamily.com/
DTSTAMP:20260424T121929Z
DESCRIPTION: https://www.sandiegofamily.com/things-to-do/events-calendar/ev
 ent/49719-shrek-the-musical
DTSTART;VALUE=DATE:20260424
LOCATION:Casa del Prado Theatre\, Balboa Park (1600 Village Pl\, San Diego\
 , CA 92101\, USA)
SUMMARY:“Shrek the Musical.” 
URL:https://www.sandiegofamily.com/things-to-do/events-calendar/event/49719
 -shrek-the-musical
END:VEVENT
END:VCALENDAR
