BEGIN:VCALENDAR
VERSION:2.0
PRODID:-//https://www.sandiegofamily.com///NONSGML kigkonsult.se iCalcreator 2.10.15//
METHOD:PUBLISH
BEGIN:VEVENT
UID:20260419T144702UTC-95856zUtV6@https://www.sandiegofamily.com/
DTSTAMP:20260419T144702Z
DESCRIPTION: https://www.sandiegofamily.com/things-to-do/events-calendar/ev
 ent/49718-fun-animal-friday
DTSTART;VALUE=DATE:20260424
LOCATION:Children's Museum of Discovery (320 N Broadway\, Escondido\, CA 92
 025\, USA)
SUMMARY:Fun Animal Friday
URL:https://www.sandiegofamily.com/things-to-do/events-calendar/event/49718
 -fun-animal-friday
END:VEVENT
END:VCALENDAR
