BEGIN:VCALENDAR
VERSION:2.0
PRODID:-//https://www.sandiegofamily.com///NONSGML kigkonsult.se iCalcreator 2.10.15//
METHOD:PUBLISH
BEGIN:VEVENT
UID:20260419T161332UTC-0879Ucjs5U@https://www.sandiegofamily.com/
DTSTAMP:20260419T161332Z
DESCRIPTION: https://www.sandiegofamily.com/things-to-do/events-calendar/ev
 ent/49716-art-alive
DTSTART;VALUE=DATE:20260425
LOCATION:The San Diego Museum of Art\, Balboa Park (1450 El Prado\, San Die
 go\, CA 92101\, USA)
SUMMARY:Art Alive
URL:https://www.sandiegofamily.com/things-to-do/events-calendar/event/49716
 -art-alive
END:VEVENT
END:VCALENDAR
