BEGIN:VCALENDAR
VERSION:2.0
PRODID:-//https://www.sandiegofamily.com///NONSGML kigkonsult.se iCalcreator 2.10.15//
METHOD:PUBLISH
BEGIN:VEVENT
UID:20260419T161347UTC-0296lKMeIU@https://www.sandiegofamily.com/
DTSTAMP:20260419T161347Z
DESCRIPTION: https://www.sandiegofamily.com/things-to-do/events-calendar/ev
 ent/49714-bloom-bash
DTSTART;VALUE=DATE:20260424
LOCATION:The San Diego Museum of Art\, Balboa Park (1450 El Prado\, San Die
 go\, CA 92101\, USA)
SUMMARY:Bloom Bash
URL:https://www.sandiegofamily.com/things-to-do/events-calendar/event/49714
 -bloom-bash
END:VEVENT
END:VCALENDAR
