BEGIN:VCALENDAR
VERSION:2.0
PRODID:-//https://www.sandiegofamily.com///NONSGML kigkonsult.se iCalcreator 2.10.15//
METHOD:PUBLISH
BEGIN:VEVENT
UID:20260421T125905UTC-0029pVaHn4@https://www.sandiegofamily.com/
DTSTAMP:20260421T125905Z
DESCRIPTION: https://www.sandiegofamily.com/things-to-do/events-calendar/ev
 ent/49712-dancing-with-the-stars-live
DTSTART;VALUE=DATE:20260422
LOCATION:San Diego Civic Theatre (1100 Third Ave\, San Diego\, CA 92101\, U
 SA)
SUMMARY:Dancing with the Stars: Live! 
URL:https://www.sandiegofamily.com/things-to-do/events-calendar/event/49712
 -dancing-with-the-stars-live
END:VEVENT
END:VCALENDAR
