BEGIN:VCALENDAR
VERSION:2.0
PRODID:-//https://www.sandiegofamily.com///NONSGML kigkonsult.se iCalcreator 2.10.15//
METHOD:PUBLISH
BEGIN:VEVENT
UID:20260421T142020UTC-06220TSDmi@https://www.sandiegofamily.com/
DTSTAMP:20260421T142020Z
DESCRIPTION: https://www.sandiegofamily.com/things-to-do/events-calendar/ev
 ent/49710-seaworld-fins-flippers-5k
DTSTART;VALUE=DATE:20260419
LOCATION:SeaWorld San Diego (500 Sea World Dr\, San Diego\, CA 92109\, USA)
SUMMARY:SeaWorld Fins & Flippers 5K
URL:https://www.sandiegofamily.com/things-to-do/events-calendar/event/49710
 -seaworld-fins-flippers-5k
END:VEVENT
END:VCALENDAR
