BEGIN:VCALENDAR
VERSION:2.0
PRODID:-//https://www.sandiegofamily.com///NONSGML kigkonsult.se iCalcreator 2.10.15//
METHOD:PUBLISH
BEGIN:VEVENT
UID:20260421T132608UTC-5340CuNrK4@https://www.sandiegofamily.com/
DTSTAMP:20260421T132608Z
DESCRIPTION: https://www.sandiegofamily.com/things-to-do/events-calendar/ev
 ent/49681-international-dark-sky-week-celebration-of-the-night
DTSTART;VALUE=DATE:20260415
LOCATION:San Diego\, CA ()
SUMMARY:International Dark Sky Week Celebration of the Night
URL:https://www.sandiegofamily.com/things-to-do/events-calendar/event/49681
 -international-dark-sky-week-celebration-of-the-night
END:VEVENT
END:VCALENDAR
