BEGIN:VCALENDAR
VERSION:2.0
PRODID:-//https://www.sandiegofamily.com///NONSGML kigkonsult.se iCalcreator 2.10.15//
METHOD:PUBLISH
BEGIN:VEVENT
UID:20260420T082204UTC-2698U1puEc@https://www.sandiegofamily.com/
DTSTAMP:20260420T082204Z
DESCRIPTION: https://www.sandiegofamily.com/things-to-do/events-calendar/ev
 ent/49660-tidepooling-adventures
DTSTART;VALUE=DATE:20260425
LOCATION:Birch Aquarium at Scripps (2300 Expedition Way\, La Jolla\, CA 920
 37\, USA)
SUMMARY:Tidepooling Adventures
URL:https://www.sandiegofamily.com/things-to-do/events-calendar/event/49660
 -tidepooling-adventures
END:VEVENT
END:VCALENDAR
