BEGIN:VCALENDAR
VERSION:2.0
PRODID:-//https://www.sandiegofamily.com///NONSGML kigkonsult.se iCalcreator 2.10.15//
METHOD:PUBLISH
BEGIN:VEVENT
UID:20260421T163429UTC-1658VlE6Ok@https://www.sandiegofamily.com/
DTSTAMP:20260421T163429Z
DESCRIPTION: https://www.sandiegofamily.com/things-to-do/events-calendar/ev
 ent/49232-uss-midway-museum
DTSTART;VALUE=DATE:20260422
LOCATION:USS Midway Museum (910 N Harbor Dr\, San Diego\, CA 92101\, USA)
SUMMARY:USS Midway Museum
URL:https://www.sandiegofamily.com/things-to-do/events-calendar/event/49232
 -uss-midway-museum
END:VEVENT
END:VCALENDAR
