BEGIN:VCALENDAR
VERSION:2.0
PRODID:-//https://www.sandiegofamily.com///NONSGML kigkonsult.se iCalcreator 2.10.15//
METHOD:PUBLISH
BEGIN:VEVENT
UID:20260423T105003UTC-1855gZPhRG@https://www.sandiegofamily.com/
DTSTAMP:20260423T105003Z
DESCRIPTION: https://www.sandiegofamily.com/things-to-do/events-calendar/ev
 ent/49177-easter-eggspress
DTSTART;VALUE=DATE:20260428
LOCATION:San Diego Model Railroad Museum (1649 El Prado\, San Diego\, CA 92
 101\, USA)
SUMMARY:Easter Eggspress
URL:https://www.sandiegofamily.com/things-to-do/events-calendar/event/49177
 -easter-eggspress
END:VEVENT
END:VCALENDAR
