BEGIN:VCALENDAR
VERSION:2.0
PRODID:-//https://www.sandiegofamily.com///NONSGML kigkonsult.se iCalcreator 2.10.15//
METHOD:PUBLISH
BEGIN:VEVENT
UID:20260419T131701UTC-1617Z351zX@https://www.sandiegofamily.com/
DTSTAMP:20260419T131701Z
DESCRIPTION: https://www.sandiegofamily.com/things-to-do/events-calendar/ev
 ent/48842-the-flower-fields-at-carlsbad-ranch
DTSTART;VALUE=DATE:20260415
LOCATION:The Flower Fields at Carlsbad Ranch (5704 Paseo Del Norte\, Carlsb
 ad\, CA 92008\, USA)
SUMMARY:The Flower Fields at Carlsbad Ranch
URL:https://www.sandiegofamily.com/things-to-do/events-calendar/event/48842
 -the-flower-fields-at-carlsbad-ranch
END:VEVENT
END:VCALENDAR
