BEGIN:VCALENDAR
VERSION:2.0
PRODID:-//https://www.sandiegofamily.com///NONSGML kigkonsult.se iCalcreator 2.10.15//
METHOD:PUBLISH
BEGIN:VEVENT
UID:20260421T112836UTC-5297EW8LzI@https://www.sandiegofamily.com/
DTSTAMP:20260421T112836Z
DESCRIPTION: https://www.sandiegofamily.com/things-to-do/events-calendar/ev
 ent/48772-seaworld-seven-seas-food-festival
DTSTART;VALUE=DATE:20260417
LOCATION:SeaWorld San Diego (500 Sea World Dr\, San Diego\, CA 92109\, USA)
SUMMARY:SeaWorld Seven Seas Food Festival
URL:https://www.sandiegofamily.com/things-to-do/events-calendar/event/48772
 -seaworld-seven-seas-food-festival
END:VEVENT
END:VCALENDAR
