BEGIN:VCALENDAR
VERSION:2.0
PRODID:-//https://www.sandiegofamily.com///NONSGML kigkonsult.se iCalcreator 2.10.15//
METHOD:PUBLISH
BEGIN:VEVENT
UID:20260421T141822UTC-648301e6n7@https://www.sandiegofamily.com/
DTSTAMP:20260421T141822Z
DESCRIPTION: https://www.sandiegofamily.com/things-to-do/events-calendar/ev
 ent/48244-residents-free-days-at-balboa-park
DTSTART;VALUE=DATE:20261006
LOCATION:Balboa Park (Balboa Park\, San Diego\, CA\, USA)
SUMMARY:Residents FREE Days at Balboa Park
URL:https://www.sandiegofamily.com/things-to-do/events-calendar/event/48244
 -residents-free-days-at-balboa-park
END:VEVENT
END:VCALENDAR
