BEGIN:VCALENDAR
VERSION:2.0
PRODID:-//https://www.sandiegofamily.com///NONSGML kigkonsult.se iCalcreator 2.10.15//
METHOD:PUBLISH
BEGIN:VEVENT
UID:20260421T100254UTC-56825bnuHK@https://www.sandiegofamily.com/
DTSTAMP:20260421T100254Z
DESCRIPTION: https://www.sandiegofamily.com/things-to-do/events-calendar/ev
 ent/47088-country-christmas-tree-lighting-craft-market
DTSTART;VALUE=DATE:20251129
LOCATION:Julian CA (2811 Washington St\, Julian\, CA 92036\, USA)
SUMMARY:Country Christmas Tree Lighting Craft Market
URL:https://www.sandiegofamily.com/things-to-do/events-calendar/event/47088
 -country-christmas-tree-lighting-craft-market
END:VEVENT
END:VCALENDAR
