BEGIN:VCALENDAR
VERSION:2.0
PRODID:-//https://www.sandiegofamily.com///NONSGML kigkonsult.se iCalcreator 2.10.15//
METHOD:PUBLISH
BEGIN:VEVENT
UID:20260423T110204UTC-9330uOl6hv@https://www.sandiegofamily.com/
DTSTAMP:20260423T110204Z
DESCRIPTION: https://www.sandiegofamily.com/things-to-do/events-calendar/ev
 ent/46470-top-secret-inside-the-high-stakes-world-of-naval-intelligence
DTSTART;VALUE=DATE:20251122
LOCATION:USS Midway Museum (910 N Harbor Dr\, San Diego\, CA 92101\, USA)
SUMMARY:Top Secret: Inside the High-Stakes World of Naval Intelligence
URL:https://www.sandiegofamily.com/things-to-do/events-calendar/event/46470
 -top-secret-inside-the-high-stakes-world-of-naval-intelligence
END:VEVENT
END:VCALENDAR
