BEGIN:VCALENDAR
VERSION:2.0
PRODID:-//https://www.sandiegofamily.com///NONSGML kigkonsult.se iCalcreator 2.10.15//
METHOD:PUBLISH
BEGIN:VEVENT
UID:20260425T020414UTC-0025eTe4lX@https://www.sandiegofamily.com/
DTSTAMP:20260425T020414Z
DESCRIPTION: https://www.sandiegofamily.com/things-to-do/events-calendar/ev
 ent/45182-pumpkin-patch-at-bates-nut-farm
DTSTART;VALUE=DATE:20250919
LOCATION:Bates Nut Farm (15954 Woods Valley Rd\, Valley Center\, CA 92082\,
  USA)
SUMMARY:Pumpkin Patch at Bates Nut Farm
URL:https://www.sandiegofamily.com/things-to-do/events-calendar/event/45182
 -pumpkin-patch-at-bates-nut-farm
END:VEVENT
END:VCALENDAR
