BEGIN:VCALENDAR
VERSION:2.0
PRODID:-//https://www.sandiegofamily.com///NONSGML kigkonsult.se iCalcreator 2.10.15//
METHOD:PUBLISH
BEGIN:VEVENT
UID:20260422T081102UTC-9584XdGPUk@https://www.sandiegofamily.com/
DTSTAMP:20260422T081102Z
DESCRIPTION: https://www.sandiegofamily.com/things-to-do/events-calendar/ev
 ent/41436-jewels-of-the-sea-the-jellyfish-experience
DTSTART;VALUE=DATE:20250415
LOCATION:SeaWorld San Diego (500 Sea World Dr\, San Diego\, CA 92109\, USA)
SUMMARY:Jewels of the Sea: The Jellyfish Experience
URL:https://www.sandiegofamily.com/things-to-do/events-calendar/event/41436
 -jewels-of-the-sea-the-jellyfish-experience
END:VEVENT
END:VCALENDAR
