BEGIN:VCALENDAR
VERSION:2.0
PRODID:-//https://www.sandiegofamily.com///NONSGML kigkonsult.se iCalcreator 2.10.15//
METHOD:PUBLISH
BEGIN:VEVENT
UID:20260421T084312UTC-8239nvSNhe@https://www.sandiegofamily.com/
DTSTAMP:20260421T084312Z
DESCRIPTION: https://www.sandiegofamily.com/things-to-do/events-calendar/ev
 ent/41250-dr-who-worlds-of-wonder-where-science-meets-fiction
DTSTART;VALUE=DATE:20250428
LOCATION:Comic-Con Museum (2131 Pan American Plaza\, San Diego\, CA 92101\,
  USA)
SUMMARY:Dr. Who Worlds of Wonder: Where Science Meets Fiction
URL:https://www.sandiegofamily.com/things-to-do/events-calendar/event/41250
 -dr-who-worlds-of-wonder-where-science-meets-fiction
END:VEVENT
END:VCALENDAR
