BEGIN:VCALENDAR
VERSION:2.0
PRODID:-//https://www.sandiegofamily.com///NONSGML kigkonsult.se iCalcreator 2.10.15//
METHOD:PUBLISH
BEGIN:VEVENT
UID:20260420T081520UTC-76340ewEG0@https://www.sandiegofamily.com/
DTSTAMP:20260420T081520Z
DESCRIPTION: https://www.sandiegofamily.com/things-to-do/events-calendar/ev
 ent/40941-the-flower-fields-at-carlsbad-ranch
DTSTART;VALUE=DATE:20250423
LOCATION:The Flower Fields at Carlsbad Ranch (5704 Paseo Del Norte\, Carlsb
 ad\, CA 92008\, USA)
SUMMARY:The Flower Fields at Carlsbad Ranch
URL:https://www.sandiegofamily.com/things-to-do/events-calendar/event/40941
 -the-flower-fields-at-carlsbad-ranch
END:VEVENT
END:VCALENDAR
