BEGIN:VCALENDAR
VERSION:2.0
PRODID:-//https://www.sandiegofamily.com///NONSGML kigkonsult.se iCalcreator 2.10.15//
METHOD:PUBLISH
BEGIN:VEVENT
UID:20260420T140523UTC-3771X9oFt9@https://www.sandiegofamily.com/
DTSTAMP:20260420T140523Z
DESCRIPTION: https://www.sandiegofamily.com/things-to-do/events-calendar/ev
 ent/40258-residents-free-days-at-balboa-park
DTSTART;VALUE=DATE:20250708
LOCATION:Balboa Park (Balboa Park\, San Diego\, CA\, USA)
SUMMARY:Residents FREE Days at Balboa Park
URL:https://www.sandiegofamily.com/things-to-do/events-calendar/event/40258
 -residents-free-days-at-balboa-park
END:VEVENT
END:VCALENDAR
