BEGIN:VCALENDAR
VERSION:2.0
PRODID:-//https://www.sandiegofamily.com///NONSGML kigkonsult.se iCalcreator 2.10.15//
METHOD:PUBLISH
BEGIN:VEVENT
UID:20260425T133243UTC-9918hal240@https://www.sandiegofamily.com/
DTSTAMP:20260425T133243Z
DESCRIPTION: https://www.sandiegofamily.com/things-to-do/events-calendar/ev
 ent/40095-back-to-the-future-the-musical
DTSTART;VALUE=DATE:20250119
LOCATION:San Diego Civic Theatre (1100 Third Ave\, San Diego\, CA 92101\, U
 SA)
SUMMARY:“Back to the Future: The Musical.” 
URL:https://www.sandiegofamily.com/things-to-do/events-calendar/event/40095
 -back-to-the-future-the-musical
END:VEVENT
END:VCALENDAR
