BEGIN:VCALENDAR
VERSION:2.0
PRODID:-//https://www.sandiegofamily.com///NONSGML kigkonsult.se iCalcreator 2.10.15//
METHOD:PUBLISH
BEGIN:VEVENT
UID:20260421T173811UTC-13345hukOl@https://www.sandiegofamily.com/
DTSTAMP:20260421T173811Z
DESCRIPTION: https://www.sandiegofamily.com/things-to-do/events-calendar/ev
 ent/39925-fallbrook-christmas-parade
DTSTART;VALUE=DATE:20241207
LOCATION:Fallbrook\, CA (Fallbrook\, CA 92028\, USA)
SUMMARY:Fallbrook Christmas Parade
URL:https://www.sandiegofamily.com/things-to-do/events-calendar/event/39925
 -fallbrook-christmas-parade
END:VEVENT
END:VCALENDAR
