BEGIN:VCALENDAR
VERSION:2.0
PRODID:-//https://www.sandiegofamily.com///NONSGML kigkonsult.se iCalcreator 2.10.15//
METHOD:PUBLISH
BEGIN:VEVENT
UID:20260420T052435UTC-43335zAzAJ@https://www.sandiegofamily.com/
DTSTAMP:20260420T052435Z
DESCRIPTION: https://www.sandiegofamily.com/things-to-do/events-calendar/ev
 ent/39794-peltzer-ice-rink
DTSTART;VALUE=DATE:20250112
LOCATION:Peltzer Pumpkin Farm (39925 Calle Contento\, Temecula\, CA 92591\,
  USA)
SUMMARY:Peltzer Ice Rink
URL:https://www.sandiegofamily.com/things-to-do/events-calendar/event/39794
 -peltzer-ice-rink
END:VEVENT
END:VCALENDAR
