BEGIN:VCALENDAR
VERSION:2.0
PRODID:-//https://www.sandiegofamily.com///NONSGML kigkonsult.se iCalcreator 2.10.15//
METHOD:PUBLISH
BEGIN:VEVENT
UID:20260420T151152UTC-3990DowmNR@https://www.sandiegofamily.com/
DTSTAMP:20260420T151152Z
DESCRIPTION: https://www.sandiegofamily.com/things-to-do/events-calendar/ev
 ent/39502-a-christmas-carol
DTSTART;VALUE=DATE:20241221
LOCATION:Cygnet Theatre (4040 Twiggs St\, San Diego\, CA 92110\, USA)
SUMMARY:“A Christmas Carol.” 
URL:https://www.sandiegofamily.com/things-to-do/events-calendar/event/39502
 -a-christmas-carol
END:VEVENT
END:VCALENDAR
