BEGIN:VCALENDAR
VERSION:2.0
PRODID:-//https://www.sandiegofamily.com///NONSGML kigkonsult.se iCalcreator 2.10.15//
METHOD:PUBLISH
BEGIN:VEVENT
UID:20260420T143544UTC-1929874COR@https://www.sandiegofamily.com/
DTSTAMP:20260420T143544Z
DESCRIPTION: https://www.sandiegofamily.com/things-to-do/events-calendar/ev
 ent/39108-rady-childrens-ice-rink
DTSTART;VALUE=DATE:20250102
LOCATION:Liberty Station (2875 Dewey Rd\, San Diego\, CA 92106\, USA)
SUMMARY:Rady Children’s Ice Rink
URL:https://www.sandiegofamily.com/things-to-do/events-calendar/event/39108
 -rady-childrens-ice-rink
END:VEVENT
END:VCALENDAR
