BEGIN:VCALENDAR
VERSION:2.0
PRODID:-//https://www.sandiegofamily.com///NONSGML kigkonsult.se iCalcreator 2.10.15//
METHOD:PUBLISH
BEGIN:VEVENT
UID:20260425T172943UTC-9165TUTUVt@https://www.sandiegofamily.com/
DTSTAMP:20260425T172943Z
DESCRIPTION: https://www.sandiegofamily.com/things-to-do/events-calendar/ev
 ent/38964-lightscape
DTSTART;VALUE=DATE:20250105
LOCATION:San Diego Botanic Garden (230 Quail Gardens Dr\, Encinitas\, CA 92
 024\, USA)
SUMMARY:“Lightscape.” 
URL:https://www.sandiegofamily.com/things-to-do/events-calendar/event/38964
 -lightscape
END:VEVENT
END:VCALENDAR
