BEGIN:VCALENDAR
VERSION:2.0
PRODID:-//https://www.sandiegofamily.com///NONSGML kigkonsult.se iCalcreator 2.10.15//
METHOD:PUBLISH
BEGIN:VEVENT
UID:20260421T102112UTC-1673lxvU8M@https://www.sandiegofamily.com/
DTSTAMP:20260421T102112Z
DESCRIPTION: https://www.sandiegofamily.com/things-to-do/events-calendar/ev
 ent/38962-lightscape
DTSTART;VALUE=DATE:20250103
LOCATION:San Diego Botanic Garden (230 Quail Gardens Dr\, Encinitas\, CA 92
 024\, USA)
SUMMARY:“Lightscape.” 
URL:https://www.sandiegofamily.com/things-to-do/events-calendar/event/38962
 -lightscape
END:VEVENT
END:VCALENDAR
