BEGIN:VCALENDAR
VERSION:2.0
PRODID:-//https://www.sandiegofamily.com///NONSGML kigkonsult.se iCalcreator 2.10.15//
METHOD:PUBLISH
BEGIN:VEVENT
UID:20260420T061535UTC-7239WTedP5@https://www.sandiegofamily.com/
DTSTAMP:20260420T061535Z
DESCRIPTION: https://www.sandiegofamily.com/things-to-do/events-calendar/ev
 ent/38837-a-very-furry-christmas
DTSTART;VALUE=DATE:20250104
LOCATION:Sesame Place San Diego (2052 Entertainment Cir\, Chula Vista\, CA 
 91911\, USA)
SUMMARY:A Very Furry Christmas
URL:https://www.sandiegofamily.com/things-to-do/events-calendar/event/38837
 -a-very-furry-christmas
END:VEVENT
END:VCALENDAR
