BEGIN:VCALENDAR
VERSION:2.0
PRODID:-//https://www.sandiegofamily.com///NONSGML kigkonsult.se iCalcreator 2.10.15//
METHOD:PUBLISH
BEGIN:VEVENT
UID:20260421T081017UTC-2772Gp3gaS@https://www.sandiegofamily.com/
DTSTAMP:20260421T081017Z
DESCRIPTION: https://www.sandiegofamily.com/things-to-do/events-calendar/ev
 ent/37609-goff-family-pumpkin-patch
DTSTART;VALUE=DATE:20241003
LOCATION:Liberty Station (2875 Dewey Rd\, San Diego\, CA 92106\, USA)
SUMMARY:Goff Family Pumpkin Patch
URL:https://www.sandiegofamily.com/things-to-do/events-calendar/event/37609
 -goff-family-pumpkin-patch
END:VEVENT
END:VCALENDAR
