BEGIN:VCALENDAR
VERSION:2.0
PRODID:-//https://www.sandiegofamily.com///NONSGML kigkonsult.se iCalcreator 2.10.15//
METHOD:PUBLISH
BEGIN:VEVENT
UID:20260421T170824UTC-3152eV04PF@https://www.sandiegofamily.com/
DTSTAMP:20260421T170824Z
DESCRIPTION: https://www.sandiegofamily.com/things-to-do/events-calendar/ev
 ent/37291-panda-ridge-at-the-zoo
DTSTART;VALUE=DATE:20240929
LOCATION:San Diego Zoo\, Balboa Park (2920 Zoo Dr\, San Diego\, CA 92101\, 
 USA)
SUMMARY:Panda Ridge at the Zoo
URL:https://www.sandiegofamily.com/things-to-do/events-calendar/event/37291
 -panda-ridge-at-the-zoo
END:VEVENT
END:VCALENDAR
