BEGIN:VCALENDAR
VERSION:2.0
PRODID:-//https://www.sandiegofamily.com///NONSGML kigkonsult.se iCalcreator 2.10.15//
METHOD:PUBLISH
BEGIN:VEVENT
UID:20260420T030402UTC-5282i4DDMC@https://www.sandiegofamily.com/
DTSTAMP:20260420T030402Z
DESCRIPTION: https://www.sandiegofamily.com/things-to-do/events-calendar/ev
 ent/34590-hold-fast
DTSTART;VALUE=DATE:20240730
LOCATION:Birch Aquarium at Scripps (2300 Expedition Way\, La Jolla\, CA 920
 37\, USA)
SUMMARY:Hold Fast
URL:https://www.sandiegofamily.com/things-to-do/events-calendar/event/34590
 -hold-fast
END:VEVENT
END:VCALENDAR
