BEGIN:VCALENDAR
VERSION:2.0
PRODID:-//https://www.sandiegofamily.com///NONSGML kigkonsult.se iCalcreator 2.10.15//
METHOD:PUBLISH
BEGIN:VEVENT
UID:20260423T034636UTC-0936Azz1up@https://www.sandiegofamily.com/
DTSTAMP:20260423T034636Z
DESCRIPTION: https://www.sandiegofamily.com/things-to-do/events-calendar/ev
 ent/33981-dino-valley
DTSTART;VALUE=DATE:20240725
LOCATION:LEGOLAND California Resort (1 Legoland Dr\, Carlsbad\, CA 92008\, 
 USA)
SUMMARY:Dino Valley
URL:https://www.sandiegofamily.com/things-to-do/events-calendar/event/33981
 -dino-valley
END:VEVENT
END:VCALENDAR
