BEGIN:VCALENDAR
VERSION:2.0
PRODID:-//https://www.sandiegofamily.com///NONSGML kigkonsult.se iCalcreator 2.10.15//
METHOD:PUBLISH
BEGIN:VEVENT
UID:20260423T225642UTC-7824ueu4KC@https://www.sandiegofamily.com/
DTSTAMP:20260423T225642Z
DESCRIPTION: https://www.sandiegofamily.com/things-to-do/events-calendar/ev
 ent/33545-chicago
DTSTART;VALUE=DATE:20240213
LOCATION:San Diego Civic Theatre (1100 Third Ave\, San Diego\, CA 92101\, U
 SA)
SUMMARY:“Chicago.”
URL:https://www.sandiegofamily.com/things-to-do/events-calendar/event/33545
 -chicago
END:VEVENT
END:VCALENDAR
