BEGIN:VCALENDAR
VERSION:2.0
PRODID:-//https://www.sandiegofamily.com///NONSGML kigkonsult.se iCalcreator 2.10.15//
METHOD:PUBLISH
BEGIN:VEVENT
UID:20260424T141652UTC-6079NGo71n@https://www.sandiegofamily.com/
DTSTAMP:20260424T141652Z
DESCRIPTION: https://www.sandiegofamily.com/things-to-do/events-calendar/ev
 ent/32708-popnology
DTSTART;VALUE=DATE:20240220
LOCATION:Balboa Park (Balboa Park\, San Diego\, CA\, USA)
SUMMARY:“Popnology.” 
URL:https://www.sandiegofamily.com/things-to-do/events-calendar/event/32708
 -popnology
END:VEVENT
END:VCALENDAR
