BEGIN:VCALENDAR
VERSION:2.0
PRODID:-//https://www.sandiegofamily.com///NONSGML kigkonsult.se iCalcreator 2.10.15//
METHOD:PUBLISH
BEGIN:VEVENT
UID:20260421T194223UTC-1942bgBTaA@https://www.sandiegofamily.com/
DTSTAMP:20260421T194223Z
DESCRIPTION: https://www.sandiegofamily.com/things-to-do/events-calendar/ev
 ent/32706-popnology
DTSTART;VALUE=DATE:20240218
LOCATION:Balboa Park (Balboa Park\, San Diego\, CA\, USA)
SUMMARY:“Popnology.” 
URL:https://www.sandiegofamily.com/things-to-do/events-calendar/event/32706
 -popnology
END:VEVENT
END:VCALENDAR
