BEGIN:VCALENDAR
VERSION:2.0
PRODID:-//https://www.sandiegofamily.com///NONSGML kigkonsult.se iCalcreator 2.10.15//
METHOD:PUBLISH
BEGIN:VEVENT
UID:20260423T215018UTC-4050USAh7M@https://www.sandiegofamily.com/
DTSTAMP:20260423T215018Z
DESCRIPTION: https://www.sandiegofamily.com/things-to-do/events-calendar/ev
 ent/32651-color-in-a-new-light
DTSTART;VALUE=DATE:20240223
LOCATION:Fleet Science Center\, Balboa Park (1875 El Prado\, San Diego\, CA
  92101\, USA)
SUMMARY:Color in a New Light
URL:https://www.sandiegofamily.com/things-to-do/events-calendar/event/32651
 -color-in-a-new-light
END:VEVENT
END:VCALENDAR
