BEGIN:VCALENDAR
VERSION:2.0
PRODID:-//https://www.sandiegofamily.com///NONSGML kigkonsult.se iCalcreator 2.10.15//
METHOD:PUBLISH
BEGIN:VEVENT
UID:20260423T185432UTC-3261JFb5E6@https://www.sandiegofamily.com/
DTSTAMP:20260423T185432Z
DESCRIPTION: https://www.sandiegofamily.com/things-to-do/events-calendar/ev
 ent/32186-old-town-trolleys-holiday-sights-and-festive-nights-tour
DTSTART;VALUE=DATE:20231213
LOCATION:Old Town San Diego (San Diego Ave\, San Diego\, CA\, USA)
SUMMARY:Old Town Trolley’s Holiday Sights and Festive Nights Tour
URL:https://www.sandiegofamily.com/things-to-do/events-calendar/event/32186
 -old-town-trolleys-holiday-sights-and-festive-nights-tour
END:VEVENT
END:VCALENDAR
