BEGIN:VCALENDAR
VERSION:2.0
PRODID:-//https://www.sandiegofamily.com///NONSGML kigkonsult.se iCalcreator 2.10.15//
METHOD:PUBLISH
BEGIN:VEVENT
UID:20260423T201859UTC-85530ouprv@https://www.sandiegofamily.com/
DTSTAMP:20260423T201859Z
DESCRIPTION: https://www.sandiegofamily.com/things-to-do/events-calendar/ev
 ent/31678-jingle-jets
DTSTART;VALUE=DATE:20231205
LOCATION:USS Midway Museum (910 N Harbor Dr\, San Diego\, CA 92101\, USA)
SUMMARY:Jingle Jets
URL:https://www.sandiegofamily.com/things-to-do/events-calendar/event/31678
 -jingle-jets
END:VEVENT
END:VCALENDAR
